BEGIN:VCALENDAR
VERSION:2.0
PRODID:-//Tukios.com/
BEGIN:VEVENT
UID:4d50f7a3-f3cb-46cb-96dd-babc8bc5c49f@www.newcomergreenbay.com
DTSTAMP:20260421T084729Z
DTSTART:20260502T180000Z
DTEND:20260502T210000Z
SUMMARY:Visitation
DESCRIPTION:
URL:https://www.newcomergreenbay.com/obituaries/thomas-seering-sr
LOCATION:Newcomer Chapel 340 South Monroe Avenue  Green Bay WI 54301
GEO:44.5090523;-88.0131966
END:VEVENT
END:VCALENDAR