BEGIN:VCALENDAR
VERSION:2.0
PRODID:-//Tukios.com/
BEGIN:VEVENT
UID:e04d7d2b-419c-48e6-b42f-e8493d7f774d@www.newcomergreenbay.com
DTSTAMP:20260421T084138Z
DTSTART:20260419T200000Z
DTEND:20260419T203000Z
SUMMARY:Prayer Service
DESCRIPTION:
URL:https://www.newcomergreenbay.com/obituaries/patricia-pat-kasper
LOCATION: 340 S Monroe Ave  Green Bay WI 54301
GEO:44.5091524;-88.0131245
END:VEVENT
END:VCALENDAR