BEGIN:VCALENDAR
VERSION:2.0
PRODID:-//Tukios.com/
BEGIN:VEVENT
UID:0fb6d660-cc64-46e7-b385-5fd7741f3054@www.newcomergreenbay.com
DTSTAMP:20260421T195606Z
DTSTART:20260427T230000Z
DTEND:20260428T000000Z
SUMMARY:Mass
DESCRIPTION:
URL:https://www.newcomergreenbay.com/obituaries/margaret-deneys
LOCATION:Assumption BVM Parish 125 East Pulaski Street  Pulaski WI 54162
GEO:44.6733326;-88.2415547
END:VEVENT
END:VCALENDAR