BEGIN:VCALENDAR
VERSION:2.0
PRODID:-//Tukios.com/
BEGIN:VEVENT
UID:c7657d82-b1fd-45eb-bb37-71bc45f85168@www.newcomergreenbay.com
DTSTAMP:20260421T200211Z
DTSTART:20260427T210000Z
DTEND:20260427T230000Z
SUMMARY:Visitation
DESCRIPTION:
URL:https://www.newcomergreenbay.com/obituaries/margaret-deneys
LOCATION:Assumption BVM Parish 125 East Pulaski Street  Pulaski WI 54162
GEO:44.6733326;-88.2415547
END:VEVENT
END:VCALENDAR