BEGIN:VCALENDAR
VERSION:2.0
PRODID:-//Tukios.com/
BEGIN:VEVENT
UID:53ab2a30-5994-4263-af29-0410797459b3@www.newcomergreenbay.com
DTSTAMP:20260422T223947Z
DTSTART:20260509T160000Z
DTEND:20260509T170000Z
SUMMARY:Celebration of Life
DESCRIPTION:
URL:https://www.newcomergreenbay.com/obituaries/kathleen-kathy-clemmerson
LOCATION:Restoration Church 731 Morris Avenue  Green Bay WI 54304
GEO:44.4925668;-88.055489
END:VEVENT
END:VCALENDAR