BEGIN:VCALENDAR
VERSION:2.0
PRODID:-//Tukios.com/
BEGIN:VEVENT
UID:00060f3e-ccc3-4f43-923f-af42826b08a2@www.newcomergreenbay.com
DTSTAMP:20260422T223702Z
DTSTART:20260509T140000Z
DTEND:20260509T160000Z
SUMMARY:Visitation
DESCRIPTION:
URL:https://www.newcomergreenbay.com/obituaries/kathleen-kathy-clemmerson
LOCATION:Restoration Church 731 Morris Avenue  Green Bay WI 54304
GEO:44.4925668;-88.055489
END:VEVENT
END:VCALENDAR