BEGIN:VCALENDAR
VERSION:2.0
PRODID:-//Tukios.com/
BEGIN:VEVENT
UID:a54ba396-40e5-470d-a055-3d3d53eb55dd@www.newcomergreenbay.com
DTSTAMP:20260423T201835Z
DTSTART:20260504T160000Z
DTEND:20260504T170000Z
SUMMARY:Mass
DESCRIPTION:
URL:https://www.newcomergreenbay.com/obituaries/catherine-katie-steinman
LOCATION:Nativity of Our Lord Parish 2270 South Oneida Street  Green Bay 
	WI 54304
GEO:44.4904786;-88.0660264
END:VEVENT
END:VCALENDAR