BEGIN:VCALENDAR
VERSION:2.0
PRODID:-//Tukios.com/
BEGIN:VEVENT
UID:a147eb95-7d07-4c90-a96e-c4bd099c9b99@www.newcomergreenbay.com
DTSTAMP:20260423T201653Z
DTSTART:20260504T140000Z
DTEND:20260504T160000Z
SUMMARY:Visitation
DESCRIPTION:
URL:https://www.newcomergreenbay.com/obituaries/catherine-katie-steinman
LOCATION:Nativity of Our Lord Parish 2270 South Oneida Street  Green Bay 
	WI 54304
GEO:44.4904786;-88.0660264
END:VEVENT
END:VCALENDAR